BEGIN:VCALENDAR
VERSION:2.0
PRODID:-//Mairie de Mozac - ECPv6.15.13.1//NONSGML v1.0//EN
CALSCALE:GREGORIAN
METHOD:PUBLISH
X-ORIGINAL-URL:https://www.ville-mozac.com
X-WR-CALDESC:Évènements pour Mairie de Mozac
REFRESH-INTERVAL;VALUE=DURATION:PT1H
X-Robots-Tag:noindex
X-PUBLISHED-TTL:PT1H
BEGIN:VTIMEZONE
TZID:Europe/Paris
BEGIN:DAYLIGHT
TZOFFSETFROM:+0100
TZOFFSETTO:+0200
TZNAME:CEST
DTSTART:20250330T010000
END:DAYLIGHT
BEGIN:STANDARD
TZOFFSETFROM:+0200
TZOFFSETTO:+0100
TZNAME:CET
DTSTART:20251026T010000
END:STANDARD
BEGIN:DAYLIGHT
TZOFFSETFROM:+0100
TZOFFSETTO:+0200
TZNAME:CEST
DTSTART:20260329T010000
END:DAYLIGHT
BEGIN:STANDARD
TZOFFSETFROM:+0200
TZOFFSETTO:+0100
TZNAME:CET
DTSTART:20261025T010000
END:STANDARD
BEGIN:DAYLIGHT
TZOFFSETFROM:+0100
TZOFFSETTO:+0200
TZNAME:CEST
DTSTART:20270328T010000
END:DAYLIGHT
BEGIN:STANDARD
TZOFFSETFROM:+0200
TZOFFSETTO:+0100
TZNAME:CET
DTSTART:20271031T010000
END:STANDARD
END:VTIMEZONE
BEGIN:VEVENT
DTSTART;TZID=Europe/Paris:20260606T200000
DTEND;TZID=Europe/Paris:20260606T210000
DTSTAMP:20260424T214703
CREATED:20251013T084500Z
LAST-MODIFIED:20251013T084500Z
UID:15363-1780776000-1780779600@www.ville-mozac.com
SUMMARY:CINÉ-CONFÉRENCE | Les troubles DYS
DESCRIPTION:LES TROUBLES DYS | Ciné-conférence.\nSamedi 6 juin à 20 h \n« Le court métrage sert d’ouverture au débat et aux questions qui suivront.\nLe photographe et vidéaste Julien Aurand met au service de l’association Patrice Cavagna F-Acteurs DYS son regard et sa sensibilité pour traiter des  personnes dites « Dys ».\nDes professionnels l’accompagnent sur la conférence pour échanger de manière plus juste sur le sujet.\nÉmotions et sourires sont au rendez-vous.«  \nEntrée libre sur réservation \nPar Julien Aurand \n  \n 
URL:https://www.ville-mozac.com/evenement/cine-conference-les-troubles-dys/
LOCATION:L’Arlequin Mozac\, Rue Louis Dalmas\, Mozac\, 63200\, France
CATEGORIES:Conférence
ATTACH;FMTTYPE=image/png:https://www.ville-mozac.com/wp-content/uploads/2025/10/VIS-CONF-260306.png
END:VEVENT
BEGIN:VEVENT
DTSTART;TZID=Europe/Paris:20260619T200000
DTEND;TZID=Europe/Paris:20260619T210000
DTSTAMP:20260424T214703
CREATED:20251013T084822Z
LAST-MODIFIED:20251013T084822Z
UID:15366-1781899200-1781902800@www.ville-mozac.com
SUMMARY:CONFÉRENCE | Le rire
DESCRIPTION:LE RIRE | Conférence.\nVendredi 19 juin à 20 h \n« Il est lumineux de mettre en valeur ce qui peut bien nous faire rire : c’est bien souvent l’absurde ! Car il malmène toute logique. Ex. : la caricature\, la moquerie.\nNous rions aussi de ce qui vient nous divertir (le festif ).\nEn fait\, il faut un contraste\, il faut quelque chose « qui ne colle pas » ! Ex. : la bêtise.\nRire\, c’est ne plus prendre la réalité au sérieux… c’est l’atténuer en dessinant son chaos\, son désordre\, sa mise en dérision. »\nGérard Guieze est professeur de philosophie\, conférencier et formateur sur les problématiques du monde contemporain.\nLa seconde partie de la conférence sera animée par un solo clownesque\, en interaction avec la première partie. C’est Bastien Jean qui se chargera d’une « mise en pratique » de l’art de rire.«  \nEntrée libre sur réservation \nPar Gérard Guieze et Bastien Jean \n  \n 
URL:https://www.ville-mozac.com/evenement/conference-le-rire/
LOCATION:L’Arlequin Mozac\, Rue Louis Dalmas\, Mozac\, 63200\, France
CATEGORIES:Conférence
ATTACH;FMTTYPE=image/png:https://www.ville-mozac.com/wp-content/uploads/2025/10/VIS-CONF-260619.png
END:VEVENT
END:VCALENDAR