BEGIN:VCALENDAR
VERSION:2.0
PRODID:-//Mairie de Mozac - ECPv6.15.13.1//NONSGML v1.0//EN
CALSCALE:GREGORIAN
METHOD:PUBLISH
X-ORIGINAL-URL:https://www.ville-mozac.com
X-WR-CALDESC:Évènements pour Mairie de Mozac
REFRESH-INTERVAL;VALUE=DURATION:PT1H
X-Robots-Tag:noindex
X-PUBLISHED-TTL:PT1H
BEGIN:VTIMEZONE
TZID:Europe/Paris
BEGIN:DAYLIGHT
TZOFFSETFROM:+0100
TZOFFSETTO:+0200
TZNAME:CEST
DTSTART:20230326T010000
END:DAYLIGHT
BEGIN:STANDARD
TZOFFSETFROM:+0200
TZOFFSETTO:+0100
TZNAME:CET
DTSTART:20231029T010000
END:STANDARD
BEGIN:DAYLIGHT
TZOFFSETFROM:+0100
TZOFFSETTO:+0200
TZNAME:CEST
DTSTART:20240331T010000
END:DAYLIGHT
BEGIN:STANDARD
TZOFFSETFROM:+0200
TZOFFSETTO:+0100
TZNAME:CET
DTSTART:20241027T010000
END:STANDARD
BEGIN:DAYLIGHT
TZOFFSETFROM:+0100
TZOFFSETTO:+0200
TZNAME:CEST
DTSTART:20250330T010000
END:DAYLIGHT
BEGIN:STANDARD
TZOFFSETFROM:+0200
TZOFFSETTO:+0100
TZNAME:CET
DTSTART:20251026T010000
END:STANDARD
END:VTIMEZONE
BEGIN:VEVENT
DTSTART;TZID=Europe/Paris:20240518T103000
DTEND;TZID=Europe/Paris:20240518T183000
DTSTAMP:20260424T014108
CREATED:20240514T083115Z
LAST-MODIFIED:20240514T083115Z
UID:10537-1716028200-1716057000@www.ville-mozac.com
SUMMARY:FÊTE MONDIALE DU JEU | Ludo'Zac
DESCRIPTION:La Ludothèque de Mozac Ludo’zac ouvrira ses portes au public le samedi 18 mai de 10 h 30 à 18 h 30 sans interruption. \nEntrée libre et gratuite. \n\n\n\n 50 rue de l’hôtel de ville. Entrée par le hall de la poste.
URL:https://www.ville-mozac.com/evenement/fete-mondiale-du-jeu-ludozac/
LOCATION:Ludothèque de Mozac\, 50 rue de l’hôtel de ville\, Mozac\, 63200\, France
CATEGORIES:Activités municipales,Sport & jeunesse
ATTACH;FMTTYPE=image/jpeg:https://www.ville-mozac.com/wp-content/uploads/2024/05/436270746_763931625889949_5048939252541062983_n.jpg
ORGANIZER;CN="Ludo'Zac":MAILTO:ludotheque@ville-mozac.fr
END:VEVENT
END:VCALENDAR