BEGIN:VCALENDAR
VERSION:2.0
PRODID:-//Mairie de Mozac - ECPv6.15.13.1//NONSGML v1.0//EN
CALSCALE:GREGORIAN
METHOD:PUBLISH
X-WR-CALNAME:Mairie de Mozac
X-ORIGINAL-URL:https://www.ville-mozac.com
X-WR-CALDESC:Évènements pour Mairie de Mozac
REFRESH-INTERVAL;VALUE=DURATION:PT1H
X-Robots-Tag:noindex
X-PUBLISHED-TTL:PT1H
BEGIN:VTIMEZONE
TZID:Europe/Paris
BEGIN:DAYLIGHT
TZOFFSETFROM:+0100
TZOFFSETTO:+0200
TZNAME:CEST
DTSTART:20240331T010000
END:DAYLIGHT
BEGIN:STANDARD
TZOFFSETFROM:+0200
TZOFFSETTO:+0100
TZNAME:CET
DTSTART:20241027T010000
END:STANDARD
BEGIN:DAYLIGHT
TZOFFSETFROM:+0100
TZOFFSETTO:+0200
TZNAME:CEST
DTSTART:20250330T010000
END:DAYLIGHT
BEGIN:STANDARD
TZOFFSETFROM:+0200
TZOFFSETTO:+0100
TZNAME:CET
DTSTART:20251026T010000
END:STANDARD
BEGIN:DAYLIGHT
TZOFFSETFROM:+0100
TZOFFSETTO:+0200
TZNAME:CEST
DTSTART:20260329T010000
END:DAYLIGHT
BEGIN:STANDARD
TZOFFSETFROM:+0200
TZOFFSETTO:+0100
TZNAME:CET
DTSTART:20261025T010000
END:STANDARD
END:VTIMEZONE
BEGIN:VEVENT
DTSTART;TZID=Europe/Paris:20250906T100000
DTEND;TZID=Europe/Paris:20250906T100000
DTSTAMP:20260422T194522
CREATED:20230830T075931Z
LAST-MODIFIED:20250728T213236Z
UID:8218-1757152800-1757152800@www.ville-mozac.com
SUMMARY:Forum des associations et accueil nouveaux habitants.
DESCRIPTION:10 h – 11 h : La ville de Mozac accueille ses nouveaux habitants avec une présentation de la ville et des élus du conseil municipal autour d’un petit-déjeuner à l’Arlequin. \n14 h – 18 h : Le forum des associations de Mozac rassemble les associations qui font vivre la commune le temps d’un après-midi.\nVous pourrez y découvrir de nouvelles activités\, renouveler vos inscriptions\, échanger sur les programmes des activités à venir\, intégrer une association en tant que bénévole.
URL:https://www.ville-mozac.com/evenement/forum-des-associations/
LOCATION:Complexe d’animation de l’Arlequin\, Rue Louis Dalmas\, Mozac\, Puy-de-Dôme\, 63200\, France
CATEGORIES:Activités municipales,Art & culture,Sport & jeunesse,Théâtre
ATTACH;FMTTYPE=image/png:https://www.ville-mozac.com/wp-content/uploads/2023/08/VIS-FORUM-250906.png
END:VEVENT
END:VCALENDAR