BEGIN:VCALENDAR
VERSION:2.0
PRODID:-//Mairie de Mozac - ECPv6.15.13.1//NONSGML v1.0//EN
CALSCALE:GREGORIAN
METHOD:PUBLISH
X-ORIGINAL-URL:https://www.ville-mozac.com
X-WR-CALDESC:Évènements pour Mairie de Mozac
REFRESH-INTERVAL;VALUE=DURATION:PT1H
X-Robots-Tag:noindex
X-PUBLISHED-TTL:PT1H
BEGIN:VTIMEZONE
TZID:Europe/Paris
BEGIN:DAYLIGHT
TZOFFSETFROM:+0100
TZOFFSETTO:+0200
TZNAME:CEST
DTSTART:20240331T010000
END:DAYLIGHT
BEGIN:STANDARD
TZOFFSETFROM:+0200
TZOFFSETTO:+0100
TZNAME:CET
DTSTART:20241027T010000
END:STANDARD
BEGIN:DAYLIGHT
TZOFFSETFROM:+0100
TZOFFSETTO:+0200
TZNAME:CEST
DTSTART:20250330T010000
END:DAYLIGHT
BEGIN:STANDARD
TZOFFSETFROM:+0200
TZOFFSETTO:+0100
TZNAME:CET
DTSTART:20251026T010000
END:STANDARD
BEGIN:DAYLIGHT
TZOFFSETFROM:+0100
TZOFFSETTO:+0200
TZNAME:CEST
DTSTART:20260329T010000
END:DAYLIGHT
BEGIN:STANDARD
TZOFFSETFROM:+0200
TZOFFSETTO:+0100
TZNAME:CET
DTSTART:20261025T010000
END:STANDARD
END:VTIMEZONE
BEGIN:VEVENT
DTSTART;TZID=Europe/Paris:20251028T090000
DTEND;TZID=Europe/Paris:20251029T170000
DTSTAMP:20260422T163044
CREATED:20250924T090312Z
LAST-MODIFIED:20250924T090312Z
UID:15166-1761642000-1761757200@www.ville-mozac.com
SUMMARY:STAGE MULTISPORTS | Automne 2025
DESCRIPTION:⚽️🤸‍♂️🃏 Le prochain stage multisports ludiques\, organisé par la sous-commission sportive de la ville de Mozac\, se déroulera la deuxième semaine des vacances d’automne\, mardi 28 et mercredi 29 octobre\, de 9 h à 17 h au complexe sportif Edmond Vacant. \nCette session sera dédiée aux enfants de la commune et alentours\, nés de 2015 à 2018. \nGRATUIT\n24 PLACES \n🟢 Associations participantes :\nLa Gauloise de Mozac Gymnastique\,\nUSM – Union Sportive de Mozac\nMozac Tarot\n…et d’autres associations à venir \n📆 Date limite d’inscription – Lundi 20 octobre\, \n⚠️ Précision importante : Ces stages étant organisés par la sous-commission sportive de la commune et non par le centre d’animation\, si vous souhaitez inscrire votre/vos enfant(s) à ces sessions sportives\, merci de ne pas les inscrire à l’accueil de loisirs les jours de stage. \nContacts et inscriptions : Ludothèque de Mozac\nludotheque@ville-mozac.fr\n04 15 79 00 23 \nTéléchargez la fiche d’inscriptions : https://mairiedemozac63-my.sharepoint.com/:w:/g/personal/v_ouslati_ville-mozac_fr/Ed6BUlRBVo5IrlhOLXL39L8BxiB55I4Ckthe8ToW_flHlg?e=DNWNS0
URL:https://www.ville-mozac.com/evenement/stage-multisports-automne-2025/
LOCATION:Complexe sportif Edmond Vacant\, Rue Louis Dalmas\, Mozac\, Puy-de-Dôme\, 63200\, France
CATEGORIES:Activités municipales,Sport & jeunesse
ATTACH;FMTTYPE=image/png:https://www.ville-mozac.com/wp-content/uploads/2025/09/VIS-MULTI-251028.png
ORGANIZER;CN="Ludo'Zac":MAILTO:ludotheque@ville-mozac.fr
END:VEVENT
END:VCALENDAR