BEGIN:VCALENDAR
VERSION:2.0
PRODID:-//Mairie de Mozac - ECPv6.15.13.1//NONSGML v1.0//EN
CALSCALE:GREGORIAN
METHOD:PUBLISH
X-WR-CALNAME:Mairie de Mozac
X-ORIGINAL-URL:https://www.ville-mozac.com
X-WR-CALDESC:Évènements pour Mairie de Mozac
REFRESH-INTERVAL;VALUE=DURATION:PT1H
X-Robots-Tag:noindex
X-PUBLISHED-TTL:PT1H
BEGIN:VTIMEZONE
TZID:Europe/Paris
BEGIN:DAYLIGHT
TZOFFSETFROM:+0100
TZOFFSETTO:+0200
TZNAME:CEST
DTSTART:20250330T010000
END:DAYLIGHT
BEGIN:STANDARD
TZOFFSETFROM:+0200
TZOFFSETTO:+0100
TZNAME:CET
DTSTART:20251026T010000
END:STANDARD
BEGIN:DAYLIGHT
TZOFFSETFROM:+0100
TZOFFSETTO:+0200
TZNAME:CEST
DTSTART:20260329T010000
END:DAYLIGHT
BEGIN:STANDARD
TZOFFSETFROM:+0200
TZOFFSETTO:+0100
TZNAME:CET
DTSTART:20261025T010000
END:STANDARD
BEGIN:DAYLIGHT
TZOFFSETFROM:+0100
TZOFFSETTO:+0200
TZNAME:CEST
DTSTART:20270328T010000
END:DAYLIGHT
BEGIN:STANDARD
TZOFFSETFROM:+0200
TZOFFSETTO:+0100
TZNAME:CET
DTSTART:20271031T010000
END:STANDARD
END:VTIMEZONE
BEGIN:VEVENT
DTSTART;TZID=Europe/Paris:20260307T203000
DTEND;TZID=Europe/Paris:20260307T223000
DTSTAMP:20260424T161644
CREATED:20260124T070231Z
LAST-MODIFIED:20260124T070231Z
UID:15798-1772915400-1772922600@www.ville-mozac.com
SUMMARY:SPECTACLE | The Big Myth Of Aphrodite
DESCRIPTION:THE BIG MYTH OF APHRODITE | Spectacle.\nSamedi 7 mars à 20 h 30 \n«Déterminée à prendre en main sa destinée de femme entrepreneure\, Solaine s’est engagée dans une formation professionnelle.\nElle trouve un logement au camping de l’Olympe\, loin d’imaginer les surprises que lui réserve cette nuit.\nLes insectes nocturnes\, son rêve\, et la rencontre de créatures mystiques vont l’inciter à percevoir la vie différemment. »\nLa comédienne Pauline Layec interprète divers personnages\, faisant écho aux représentations de déesses de la Grèce Antique et d’influenceuses de l’ère numérique\, tout en se laissant porter par son imagination décalée.\nDifficile de ne pas se laisser embarquer par la performance de l’actrice ! On rit de bon cœur.\nThe Big Myth of Aphrodite met en avant la rhétorique du corps\, de l’estime de soi et de la connaissance personnelle. Avec un mélange d’humour et de sensibilité\, ce spectacle percutant questionne notre relation au travail\, la puissance de nos rêves et notre solitude.\nLa rencontre en bord de plateau permet de rencontrer l’actrice\, d’échanger les ressentis et de partager un moment privilégié. \nCompagnie : Arts Qi Med\nAvec : Pauline Layec\nMise en scène : Claudia Urrutia \n 
URL:https://www.ville-mozac.com/evenement/spectacle-the-big-myth-of-aphrodite/
LOCATION:L’Arlequin Mozac\, Rue Louis Dalmas\, Mozac\, 63200\, France
CATEGORIES:Théâtre
ATTACH;FMTTYPE=image/png:https://www.ville-mozac.com/wp-content/uploads/2026/01/VIS-ARL-260307.png
END:VEVENT
BEGIN:VEVENT
DTSTART;TZID=Europe/Paris:20260322T170000
DTEND;TZID=Europe/Paris:20260322T190000
DTSTAMP:20260424T161644
CREATED:20260316T091401Z
LAST-MODIFIED:20260316T091510Z
UID:15919-1774198800-1774206000@www.ville-mozac.com
SUMMARY:THÉÂTRE | UN BEAU SALAUD
DESCRIPTION:Le comité de jumelage de Mozac vous propose d’assister à la représentation de la pièce de théâtre « Un beau salaud » d’après la comédie de Pierre Chesnot.\n\n\nDimanche 22 mars 2026 – 17h\nCompagnie : Comédie solidaire Maringis\n\n\nRéservations au 06 73 24 82 71\nOu par Hello Asso : https://www.helloasso.com/…/even…/comedie-un-beau-salaud
URL:https://www.ville-mozac.com/evenement/theatre-un-beau-salaud/
LOCATION:L’Arlequin Mozac\, Rue Louis Dalmas\, Mozac\, 63200\, France
CATEGORIES:Humour,Théâtre
ATTACH;FMTTYPE=image/jpeg:https://www.ville-mozac.com/wp-content/uploads/2026/03/affiche-01.jpg
END:VEVENT
BEGIN:VEVENT
DTSTART;TZID=Europe/Paris:20260328T203000
DTEND;TZID=Europe/Paris:20260328T214500
DTSTAMP:20260424T161644
CREATED:20260124T072512Z
LAST-MODIFIED:20260124T072512Z
UID:15820-1774729800-1774734300@www.ville-mozac.com
SUMMARY:ONE-MAN SHOW | "Quelles vies !" par Tim Solac
DESCRIPTION:« QUELLES VIES ! » par TIM SOLAC | One-man show.\nSamedi 28 mars à 20 h 30 \nCe spectacle intitulé Quelles vies ! est une expérience à la fois divertissante et émouvante.\nÀ travers une série de numéros de danse\, de sketchs humoristiques et de récits personnels\, l’artiste nous invite à plonger dans son univers singulier.\nDu rire aux larmes\, Tim Solac captive son public avec des performances qui allient virtuosité technique et sensibilité artistique.\nSous le couvert de l’humour\, les spectacles de Tim Solac explorent des thèmes profonds et universels.\nLa différence\, la tolérance\, l’exigence d’une discipline et le désir de liberté sont autant de sujets traités avec finesse et intelligence.\nÀ travers ses personnages hauts en couleur\, l’artiste nous offre un regard tendre et lucide sur le monde qui nous entoure. \nPar : Tim Solac \n 
URL:https://www.ville-mozac.com/evenement/one-man-show-quelles-vies-par-tim-solac/
LOCATION:L’Arlequin Mozac\, Rue Louis Dalmas\, Mozac\, 63200\, France
CATEGORIES:Art & culture,Culture & jeunesse,Humour,Théâtre
ATTACH;FMTTYPE=image/png:https://www.ville-mozac.com/wp-content/uploads/2026/01/VIS-ARL-260328.png
END:VEVENT
END:VCALENDAR