BEGIN:VCALENDAR
VERSION:2.0
PRODID:-//Mairie de Mozac - ECPv6.15.13.1//NONSGML v1.0//EN
CALSCALE:GREGORIAN
METHOD:PUBLISH
X-WR-CALNAME:Mairie de Mozac
X-ORIGINAL-URL:https://www.ville-mozac.com
X-WR-CALDESC:Évènements pour Mairie de Mozac
REFRESH-INTERVAL;VALUE=DURATION:PT1H
X-Robots-Tag:noindex
X-PUBLISHED-TTL:PT1H
BEGIN:VTIMEZONE
TZID:Europe/Paris
BEGIN:DAYLIGHT
TZOFFSETFROM:+0100
TZOFFSETTO:+0200
TZNAME:CEST
DTSTART:20250330T010000
END:DAYLIGHT
BEGIN:STANDARD
TZOFFSETFROM:+0200
TZOFFSETTO:+0100
TZNAME:CET
DTSTART:20251026T010000
END:STANDARD
BEGIN:DAYLIGHT
TZOFFSETFROM:+0100
TZOFFSETTO:+0200
TZNAME:CEST
DTSTART:20260329T010000
END:DAYLIGHT
BEGIN:STANDARD
TZOFFSETFROM:+0200
TZOFFSETTO:+0100
TZNAME:CET
DTSTART:20261025T010000
END:STANDARD
BEGIN:DAYLIGHT
TZOFFSETFROM:+0100
TZOFFSETTO:+0200
TZNAME:CEST
DTSTART:20270328T010000
END:DAYLIGHT
BEGIN:STANDARD
TZOFFSETFROM:+0200
TZOFFSETTO:+0100
TZNAME:CET
DTSTART:20271031T010000
END:STANDARD
END:VTIMEZONE
BEGIN:VEVENT
DTSTART;VALUE=DATE:20260925
DTEND;VALUE=DATE:20260928
DTSTAMP:20260424T234527
CREATED:20260115T083548Z
LAST-MODIFIED:20260115T083548Z
UID:15788-1790294400-1790553599@www.ville-mozac.com
SUMMARY:MOZ'ACTE 2 | Festival de Théâtre Amateur
DESCRIPTION:L’Arlequin accueille la seconde édition du festival de théâtre amateur « Moz’Acte ». \nEn partenariat avec la FNCTA 63\, la Fédération Nationale des Compagnies de Théâtre Amateur du Puy-De-Dôme. \nDu 25 au 27 septembre 2026.
URL:https://www.ville-mozac.com/evenement/mozacte-2-festival-de-theatre-amateur/
LOCATION:L’Arlequin Mozac\, Rue Louis Dalmas\, Mozac\, 63200\, France
CATEGORIES:Théâtre
ATTACH;FMTTYPE=image/png:https://www.ville-mozac.com/wp-content/uploads/2026/01/VIS-MOZ-ACTE-2.png
ORGANIZER;CN="FNCTA 63":MAILTO:cd63@fncta.fr
END:VEVENT
END:VCALENDAR